BEGIN:VCALENDAR
VERSION:2.0
PRODID:-//FZS - Freizeitzentrum Schnelsen | Langeweilefreiezone - ECPv6.15.20//NONSGML v1.0//EN
CALSCALE:GREGORIAN
METHOD:PUBLISH
X-WR-CALNAME:FZS - Freizeitzentrum Schnelsen | Langeweilefreiezone
X-ORIGINAL-URL:https://www.fz-schnelsen.de
X-WR-CALDESC:Veranstaltungen für FZS - Freizeitzentrum Schnelsen | Langeweilefreiezone
REFRESH-INTERVAL;VALUE=DURATION:PT1H
X-Robots-Tag:noindex
X-PUBLISHED-TTL:PT1H
BEGIN:VTIMEZONE
TZID:Europe/Berlin
BEGIN:DAYLIGHT
TZOFFSETFROM:+0100
TZOFFSETTO:+0200
TZNAME:CEST
DTSTART:20240331T010000
END:DAYLIGHT
BEGIN:STANDARD
TZOFFSETFROM:+0200
TZOFFSETTO:+0100
TZNAME:CET
DTSTART:20241027T010000
END:STANDARD
BEGIN:DAYLIGHT
TZOFFSETFROM:+0100
TZOFFSETTO:+0200
TZNAME:CEST
DTSTART:20250330T010000
END:DAYLIGHT
BEGIN:STANDARD
TZOFFSETFROM:+0200
TZOFFSETTO:+0100
TZNAME:CET
DTSTART:20251026T010000
END:STANDARD
BEGIN:DAYLIGHT
TZOFFSETFROM:+0100
TZOFFSETTO:+0200
TZNAME:CEST
DTSTART:20260329T010000
END:DAYLIGHT
BEGIN:STANDARD
TZOFFSETFROM:+0200
TZOFFSETTO:+0100
TZNAME:CET
DTSTART:20261025T010000
END:STANDARD
END:VTIMEZONE
BEGIN:VEVENT
DTSTART;TZID=Europe/Berlin:20251107T180000
DTEND;TZID=Europe/Berlin:20251107T233000
DTSTAMP:20260421T184136
CREATED:20241201T230030Z
LAST-MODIFIED:20250728T100132Z
UID:11187-1762538400-1762558200@www.fz-schnelsen.de
SUMMARY:KauFRAUsch-ausverkauft
DESCRIPTION:Es sind alle Stände vergeben. Sie können sich auf eine Warteliste setzen lassen.\nFlohmarkt von Frau zu Frau – stöbern und klönen bei leckeren Snacks und Getränken.\nGenießen Sie in unseren großzügigen Räumen (mit Umkleidemöglichkeit) in lockerer Atmosphäre einen Flohmarkt\, bei dem ausschließlich Frauen Ihre ehemaligen Lieblingsstücke präsentieren. Alles natürlich sauber\, gepflegt und von guter Qualität. Sie finden nur Teile aus den Bereichen Mode\, Accessoires\, Schmuck\, Sport und Unterhaltung (keine Kinder- oder Herrenbekleidung\, keine Haushaltswaren). In unserem Café gibt es leckere Snacks und prickelnden Prosecco. Ein ganz besonderer Flohmarkt von Frauen für Frauen. \nDie Standfläche von 2\,10 m x 0\,70 m kostet € 20\,00. Entweder mit von uns gestellten Tischen oder Sie bringen sich selber Kleiderstangen für den Platz mit. Zusätzliche Ständer oder sperrige Gegenstände neben den Tischen kosten € 2\,50 extra. \nAufbau für die Aussteller beginnt um 17:00 Uhr. \nDer KauFRAUsch  ist von 18:00 – 20:30 Uhr geöffnet. \nAnmeldung ab 25.06.2025 bei uns im FZS persönlich\, telefonisch oder per Mail unter mail@fz-schnelsen.de. \nEintritt: frei
URL:https://www.fz-schnelsen.de/veranstaltung/kaufrausch/
CATEGORIES:Veranstaltungen
ATTACH;FMTTYPE=image/jpeg:https://www.fz-schnelsen.de/wp-content/uploads/2024/12/shutterstock_1766110322-web.jpg
END:VEVENT
END:VCALENDAR