BEGIN:VCALENDAR
VERSION:2.0
PRODID:-//FZS - Freizeitzentrum Schnelsen | Langeweilefreiezone - ECPv6.15.20//NONSGML v1.0//EN
CALSCALE:GREGORIAN
METHOD:PUBLISH
X-WR-CALNAME:FZS - Freizeitzentrum Schnelsen | Langeweilefreiezone
X-ORIGINAL-URL:https://www.fz-schnelsen.de
X-WR-CALDESC:Veranstaltungen für FZS - Freizeitzentrum Schnelsen | Langeweilefreiezone
REFRESH-INTERVAL;VALUE=DURATION:PT1H
X-Robots-Tag:noindex
X-PUBLISHED-TTL:PT1H
BEGIN:VTIMEZONE
TZID:Europe/Berlin
BEGIN:DAYLIGHT
TZOFFSETFROM:+0100
TZOFFSETTO:+0200
TZNAME:CEST
DTSTART:20210328T010000
END:DAYLIGHT
BEGIN:STANDARD
TZOFFSETFROM:+0200
TZOFFSETTO:+0100
TZNAME:CET
DTSTART:20211031T010000
END:STANDARD
BEGIN:DAYLIGHT
TZOFFSETFROM:+0100
TZOFFSETTO:+0200
TZNAME:CEST
DTSTART:20220327T010000
END:DAYLIGHT
BEGIN:STANDARD
TZOFFSETFROM:+0200
TZOFFSETTO:+0100
TZNAME:CET
DTSTART:20221030T010000
END:STANDARD
BEGIN:DAYLIGHT
TZOFFSETFROM:+0100
TZOFFSETTO:+0200
TZNAME:CEST
DTSTART:20230326T010000
END:DAYLIGHT
BEGIN:STANDARD
TZOFFSETFROM:+0200
TZOFFSETTO:+0100
TZNAME:CET
DTSTART:20231029T010000
END:STANDARD
BEGIN:DAYLIGHT
TZOFFSETFROM:+0100
TZOFFSETTO:+0200
TZNAME:CEST
DTSTART:20240331T010000
END:DAYLIGHT
BEGIN:STANDARD
TZOFFSETFROM:+0200
TZOFFSETTO:+0100
TZNAME:CET
DTSTART:20241027T010000
END:STANDARD
BEGIN:DAYLIGHT
TZOFFSETFROM:+0100
TZOFFSETTO:+0200
TZNAME:CEST
DTSTART:20250330T010000
END:DAYLIGHT
BEGIN:STANDARD
TZOFFSETFROM:+0200
TZOFFSETTO:+0100
TZNAME:CET
DTSTART:20251026T010000
END:STANDARD
BEGIN:DAYLIGHT
TZOFFSETFROM:+0100
TZOFFSETTO:+0200
TZNAME:CEST
DTSTART:20260329T010000
END:DAYLIGHT
BEGIN:STANDARD
TZOFFSETFROM:+0200
TZOFFSETTO:+0100
TZNAME:CET
DTSTART:20261025T010000
END:STANDARD
BEGIN:DAYLIGHT
TZOFFSETFROM:+0100
TZOFFSETTO:+0200
TZNAME:CEST
DTSTART:20270328T010000
END:DAYLIGHT
BEGIN:STANDARD
TZOFFSETFROM:+0200
TZOFFSETTO:+0100
TZNAME:CET
DTSTART:20271031T010000
END:STANDARD
BEGIN:DAYLIGHT
TZOFFSETFROM:+0100
TZOFFSETTO:+0200
TZNAME:CEST
DTSTART:20280326T010000
END:DAYLIGHT
BEGIN:STANDARD
TZOFFSETFROM:+0200
TZOFFSETTO:+0100
TZNAME:CET
DTSTART:20281029T010000
END:STANDARD
BEGIN:DAYLIGHT
TZOFFSETFROM:+0100
TZOFFSETTO:+0200
TZNAME:CEST
DTSTART:20290325T010000
END:DAYLIGHT
BEGIN:STANDARD
TZOFFSETFROM:+0200
TZOFFSETTO:+0100
TZNAME:CET
DTSTART:20291028T010000
END:STANDARD
BEGIN:DAYLIGHT
TZOFFSETFROM:+0100
TZOFFSETTO:+0200
TZNAME:CEST
DTSTART:20300331T010000
END:DAYLIGHT
BEGIN:STANDARD
TZOFFSETFROM:+0200
TZOFFSETTO:+0100
TZNAME:CET
DTSTART:20301027T010000
END:STANDARD
BEGIN:DAYLIGHT
TZOFFSETFROM:+0100
TZOFFSETTO:+0200
TZNAME:CEST
DTSTART:20310330T010000
END:DAYLIGHT
BEGIN:STANDARD
TZOFFSETFROM:+0200
TZOFFSETTO:+0100
TZNAME:CET
DTSTART:20311026T010000
END:STANDARD
BEGIN:DAYLIGHT
TZOFFSETFROM:+0100
TZOFFSETTO:+0200
TZNAME:CEST
DTSTART:20320328T010000
END:DAYLIGHT
BEGIN:STANDARD
TZOFFSETFROM:+0200
TZOFFSETTO:+0100
TZNAME:CET
DTSTART:20321031T010000
END:STANDARD
END:VTIMEZONE
BEGIN:VEVENT
DTSTART;TZID=Europe/Berlin:20220112T100000
DTEND;TZID=Europe/Berlin:20280202T123000
DTSTAMP:20260419T220717
CREATED:20170504T142739Z
LAST-MODIFIED:20260219T100515Z
UID:1241-1641981600-1833107400@www.fz-schnelsen.de
SUMMARY:Bridge
DESCRIPTION:Neue Mitspieler sind herzlich willkommen. \nMittwochs\, 09:30 -12:00 Uhr \nRaum 4 \nAnsprechpartner: Rita Kecke Tel.: 040-550 87 00
URL:https://www.fz-schnelsen.de/veranstaltung/bridge/
CATEGORIES:Mittwoch,Treffs
ATTACH;FMTTYPE=image/jpeg:https://www.fz-schnelsen.de/wp-content/uploads/2017/05/cards-166440_1920-web.jpg
END:VEVENT
BEGIN:VEVENT
DTSTART;TZID=Europe/Berlin:20220113T150000
DTEND;TZID=Europe/Berlin:20260113T180000
DTSTAMP:20260419T220717
CREATED:20170517T142437Z
LAST-MODIFIED:20260219T101451Z
UID:1834-1642086000-1768327200@www.fz-schnelsen.de
SUMMARY:Russlanddeutsche Seniorengruppe
DESCRIPTION:Russlanddeutsche Seniorenrunde\, jeden Donnerstag 15:00 bis 18:00 Uhr. \nNeue Kontakte knüpfen\, mit anderen ins Gespräch kommen\, gemeinsame Unternehmungen planen und viele andere Anregungen wie Gesellschaftsspiele\, Singen\, leichte Gymnastik und Informationen stehen in dieser deutsch und russisch sprechenden Gruppe auf dem Programm. Vladimir Lux und seine Gruppe freuen sich über neue Teilnehmer/-innen. \nWeitere Informationen erhalten Sie im Seniorenbüro Hamburg e.V.\, Tel. 040-30 39 95 07.
URL:https://www.fz-schnelsen.de/veranstaltung/russlanddeutsche-seniorengruppe/
CATEGORIES:Donnerstag,Treffs
ATTACH;FMTTYPE=image/jpeg:https://www.fz-schnelsen.de/wp-content/uploads/2017/05/gwimages-Fotolia-web-1.jpg
END:VEVENT
BEGIN:VEVENT
DTSTART;TZID=Europe/Berlin:20220113T150000
DTEND;TZID=Europe/Berlin:20280120T160000
DTSTAMP:20260419T220717
CREATED:20170517T142556Z
LAST-MODIFIED:20260219T101532Z
UID:1836-1642086000-1831996800@www.fz-schnelsen.de
SUMMARY:Tafel Norderstedt
DESCRIPTION:Lebensmittelausgabe für Bedürftige \njeden Donnerstag\, 15:00 – 16:00 Uhr. \nWeitere Infos unter: \nTafel Norderstedt \nwww.tafel-norderstedt.de \n040 / 525 26 36 \ninfo@tafel-norderstedt.de \n 
URL:https://www.fz-schnelsen.de/veranstaltung/norderstedter-tafel/
CATEGORIES:Donnerstag,Treffs
ATTACH;FMTTYPE=image/jpeg:https://www.fz-schnelsen.de/wp-content/uploads/2017/05/DSC07698-web.jpg
END:VEVENT
BEGIN:VEVENT
DTSTART;TZID=Europe/Berlin:20220117T110000
DTEND;TZID=Europe/Berlin:20280207T114500
DTSTAMP:20260419T220717
CREATED:20170503T171208Z
LAST-MODIFIED:20220110T134953Z
UID:1214-1642417200-1833536700@www.fz-schnelsen.de
SUMMARY:AlterAktiv Singekreis
DESCRIPTION:immer Montags von 11:00 – 11:45 Uhr in Raum 6 \nmit Andreas Werling Tel.: 040-693 76 76
URL:https://www.fz-schnelsen.de/veranstaltung/alteraktiv-singekreis/
CATEGORIES:Montag,Treffs
ATTACH;FMTTYPE=image/jpeg:https://www.fz-schnelsen.de/wp-content/uploads/2017/05/highwaystarz-Fotolia-web.jpg
END:VEVENT
BEGIN:VEVENT
DTSTART;TZID=Europe/Berlin:20220117T120000
DTEND;TZID=Europe/Berlin:20290205T120000
DTSTAMP:20260419T220717
CREATED:20170503T171418Z
LAST-MODIFIED:20260219T101739Z
UID:1216-1642420800-1864987200@www.fz-schnelsen.de
SUMMARY:AlterAktiv Gymnastik
DESCRIPTION:immer Montags von 12:00 – 12:45 Uhr im Forum \nmit Andreas Werling Tel.: 040-693 76 76
URL:https://www.fz-schnelsen.de/veranstaltung/alteraktiv-gymnastik/
CATEGORIES:Montag,Treffs
ATTACH;FMTTYPE=image/jpeg:https://www.fz-schnelsen.de/wp-content/uploads/2017/05/gwimages-Fotolia-web.jpg
END:VEVENT
BEGIN:VEVENT
DTSTART;TZID=Europe/Berlin:20220613T140000
DTEND;TZID=Europe/Berlin:20280710T173000
DTSTAMP:20260419T220717
CREATED:20170503T171525Z
LAST-MODIFIED:20260219T101936Z
UID:1218-1655128800-1846863000@www.fz-schnelsen.de
SUMMARY:Skat
DESCRIPTION:Neue Spieler sind herzlich willkommen. \nKontakt: Dieter Janutta Tel.: 040-55 92 91 24
URL:https://www.fz-schnelsen.de/veranstaltung/skat/
CATEGORIES:Montag,Treffs
ATTACH;FMTTYPE=image/jpeg:https://www.fz-schnelsen.de/wp-content/uploads/2017/05/Sandra-Henkel-Fotolia-web.jpg
END:VEVENT
BEGIN:VEVENT
DTSTART;TZID=Europe/Berlin:20220614T170000
DTEND;TZID=Europe/Berlin:20280613T200000
DTSTAMP:20260419T220717
CREATED:20170504T142532Z
LAST-MODIFIED:20260219T102009Z
UID:1239-1655226000-1844539200@www.fz-schnelsen.de
SUMMARY:Handarbeitstreff
DESCRIPTION:Hier im Freizeitzentrum Schnelsen findet ein offener Strick- und Häkeltreff statt\, bei dem sich in entspannter\, herzlicher Atmosphäre Gleichgesinnte an jedem Dienstag(nicht in den Hamburger Schulferien\, oder an Feiertagen) treffen können. Hier kann in gemütlicher Runde gestrickt\, gehäkelt und gefachsimpelt werden. Wir freuen uns über Besuch\, ob kurz oder lang\, in der Zeit von 17 bis 20 Uhr.\nVorhandene Strick- und Häkelutensilien bitte mitbringen.\nBeitrag € 2\,00 (anteilige Kosten zur Raummiete)\nWas dich erwartet?\nEin achtsames Miteinander\, bereichernde Gespräche\, inspirierender Austausch\, jede Menge Lachen und natürlich das leise Klappern unserer Nadeln.\nWir teilen Wissen\, geben uns gegenseitig Tipps\, wachsen über uns hinaus und feiern die Freude am kreativen Tun.\nHier geht es um mehr als nur Maschen und Muster.\nEs geht um echte Begegnungen. Um Lachen und Leichtigkeit. Um Ruhe im Trubel des Alltags.\nWir inspirieren uns gegenseitig\, helfen einander\, tauschen Ideen aus und lassen die Nadeln tanzen.\nHandarbeiten darf hier etwas sein\, das stärkt\, verbindet und einfach guttut.\nEinfach vorbei kommen oder Kontakt per Mail. \nDienstags\, 17:00 – 20:00 Uhr \nRaum 6 \nAnsprechpartnerin: Angela angela.in.hansestadthamburg@gmail.com
URL:https://www.fz-schnelsen.de/veranstaltung/handarbeitstreff/
CATEGORIES:Dienstag,Treffs
ATTACH;FMTTYPE=image/jpeg:https://www.fz-schnelsen.de/wp-content/uploads/2017/05/handarbeiten-web.jpg
END:VEVENT
BEGIN:VEVENT
DTSTART;TZID=Europe/Berlin:20240127T100000
DTEND;TZID=Europe/Berlin:20270130T100000
DTSTAMP:20260419T220717
CREATED:20240123T102752Z
LAST-MODIFIED:20260219T102112Z
UID:15115-1706349600-1801303200@www.fz-schnelsen.de
SUMMARY:Patchwork und Nähen
DESCRIPTION:Einmal im Monat treffen wir uns an einem Samstag um in gemütlicher Runde zu Nähen. Wir sind eine Gruppe von 8 Frauen\, die Spaß an hübschen Stoffen haben und daraus gerne tolle Sachen nähen. Patchwork\, also aus kleinen Stoffstückchen Tischdecken\, Decken oder Täschchen nähen\, ist das Hauptthema in unserer Gruppe\, aber die eine oder andere näht sich auch gerne mal ein neues Kleidungsstück.\nWir arbeiten jeder an unseren eigenen Projekten und unterstützen uns gegenseitig bei Fragen und geben den anderen Tipps.\nWenn du Spaß am Patchwork und Quilten hast ruf gerne an und schau unverbindlich mal vorbei um uns kennenzulernen.\nAuch Neulinge sind willkommen\, denn wir teilen unser Wissen gern und können dich bei dem Start und bei Fragen zu diesem tollen Hobby unterstützen.\nEs stehen keine Nähmaschinen zur Verfügung\, daher sollte die eigene Nähmaschine mitgebracht werden. Bügelbrett und Bügeleisen stehen vor Ort zur Verfügung.\nWir starten meistens um 10.00 Uhr und enden zwischen 16.00 und 17.00 Uhr. \nBei Interesse melden Sie sich bitte bei Frauke Bornholdt: 040-559 39 66
URL:https://www.fz-schnelsen.de/veranstaltung/patchwork-und-naehen/
CATEGORIES:Samstag,Treffs
ATTACH;FMTTYPE=image/jpeg:https://www.fz-schnelsen.de/wp-content/uploads/2024/01/sewing-2321532_1280-web.jpg
END:VEVENT
BEGIN:VEVENT
DTSTART;TZID=Europe/Berlin:20250114T150000
DTEND;TZID=Europe/Berlin:20310204T150000
DTSTAMP:20260419T220717
CREATED:20170504T140057Z
LAST-MODIFIED:20260312T134428Z
UID:1233-1736866800-1927983600@www.fz-schnelsen.de
SUMMARY:Seniorentreff zu Fragen rund um den PC – macht Spaß und kostet nichts
DESCRIPTION:Sie haben Fragen zu Hard- und Software? Hier können Sie Ihr Wissen vertiefen\, festigen\, offene Fragen klären und in Ihrem eigenen Tempo arbeiten.  Das Ganze wird dankenswerterweise vom Bezirksamt Eimsbüttel gefördert. Unsere PC-Kursleiter Max Schellmann stehen am Dienstag\, 15:00-16:00 Uhr und Donnerstag\, 10:00-11:00 Uhr zur Verfügung. Aber bitte nur nach vorheriger Anmeldung unter: \npc-senioren@mail.de oder Tel.: 040-559 24 34. Bitte geben Sie an\, für welches Betriebssystem Hilfestellung brauchen: Apple\, Windows oder Android. \nZu ihrem eigenen Schutz und damit Sie ohne Ablenkung arbeiten können\, bieten wir im Moment nur Einzeltermine an.  \nFalls Sie einen Termin nicht wahrnehmen können\, bitten wir Absage (spätestens 24 Stunden vorher)\, damit wir den Termin ggf. weitervergeben können.
URL:https://www.fz-schnelsen.de/veranstaltung/offener-seniorentreff-zu-fragen-rund-um-den-pc/
CATEGORIES:Dienstag,Treffs
ATTACH;FMTTYPE=image/jpeg:https://www.fz-schnelsen.de/wp-content/uploads/2017/05/DSC06697-web.jpg
END:VEVENT
BEGIN:VEVENT
DTSTART;TZID=Europe/Berlin:20250116T100000
DTEND;TZID=Europe/Berlin:20310206T110000
DTSTAMP:20260419T220717
CREATED:20220107T105047Z
LAST-MODIFIED:20260312T134326Z
UID:9772-1737021600-1928142000@www.fz-schnelsen.de
SUMMARY:Seniorentreff zu Fragen rund um den PC – macht Spaß und kostet nichts
DESCRIPTION:Sie haben Fragen zu Hard- und Software? Hier können Sie Ihr Wissen vertiefen\, festigen\, offene Fragen klären und in Ihrem eigenen Tempo arbeiten.  Das Ganze wird dankenswerterweise vom Bezirksamt Eimsbüttel gefördert. Unsere PC-Kursleiter Max Schellmann  stehen am  Donnerstag\, 10:00-11:00 Uhr zur Verfügung. Aber bitte nur nach vorheriger Anmeldung unter: \npc-senioren@mail.de oder Tel.: 040-559 24 34  \nFalls Sie einen Termin nicht wahrnehmen können\, bitten wir Absage (spätestens 24 Stunden vorher)\, damit wir den Termin ggf. weitervergeben können.
URL:https://www.fz-schnelsen.de/veranstaltung/offener-seniorentreff-zu-fragen-rund-um-den-pc-2-2/
CATEGORIES:Donnerstag,Treffs
ATTACH;FMTTYPE=image/jpeg:https://www.fz-schnelsen.de/wp-content/uploads/2022/01/DSC06697-web.jpg
END:VEVENT
BEGIN:VEVENT
DTSTART;TZID=Europe/Berlin:20251207T170000
DTEND;TZID=Europe/Berlin:20251207T230000
DTSTAMP:20260419T220717
CREATED:20250721T104049Z
LAST-MODIFIED:20250721T104316Z
UID:21078-1765126800-1765148400@www.fz-schnelsen.de
SUMMARY:Die Workshoppers – „Auch ‘n büschen Weihnachten“
DESCRIPTION:Was passiert\, wenn ein Chor Lust auf Weihnachten bekommt\, aber sich nicht auf „Stille Nacht“ beschränken will? Genau: Die Workshoppers packen ein Programm aus\, das glitzert\, groovt und überrascht. Zwischen bekannten saisonalen Songs und Lieblingsstücken aus Pop\, Jazz und anderen Genres bringen die Sängerinnen und Sänger genau die Lieder auf die Bühne\, die schon lange in ihnen gebrodelt haben – mal mitreißend\, mal zart\, mal mit einem Augenzwinkern.\nMit im Gepäck: eine kleine\, feine Band\, die den Chor nicht nur begleitet\, sondern immer wieder eigene Farbtupfer setzt. Stephan Mihm sorgt am Klavier für die Basis\, Saxophon\, Gitarre\, Percussion und Bass mischen die Songs auf ihre Art auf – mal sanft\, mal mit ordentlich Schub. Das Ergebnis: Musik\, die direkt ins Ohr und ins Herz geht. Nach zwei Stunden werden Publikum und Musiker wohl dasselbe denken: Es war eigentlich viel zu kurz.
URL:https://www.fz-schnelsen.de/veranstaltung/die-workshoppers-auch-n-bueschen-weihnachten/
CATEGORIES:Veranstaltungen
ATTACH;FMTTYPE=image/jpeg:https://www.fz-schnelsen.de/wp-content/uploads/2025/07/Foto-fuer-2025-web-scaled.jpg
END:VEVENT
BEGIN:VEVENT
DTSTART;TZID=Europe/Berlin:20251209T193000
DTEND;TZID=Europe/Berlin:20251209T233000
DTSTAMP:20260419T220717
CREATED:20250505T095447Z
LAST-MODIFIED:20251110T141828Z
UID:19385-1765308600-1765323000@www.fz-schnelsen.de
SUMMARY:8 to the Bar - Traditionell unser letztes Konzert im Jahr
DESCRIPTION:Gegründet wurde die Hamburger Band 8 to the Bar 1985. In der Tradition der  berühmten Hamburger Szene der frühen 70er Jahre verbinden die drei Musiker von 8 to the Bar viele musikalische Stile zu ihrer ganz eigenen swingenden Mischung aus Blues\, Boogie Woogie\, Oldies und Country. Und das kommt seit über 30 Jahren gut an und begeistert das Publikum. Altbewähre Stücke – eine feine Auswahl von Covern aus der goldene Zeit der handgemachten Musik von den Fünfzigern bis in die Siebziger\, aber auch eigene Songs und moderneres\, alles im typischen Sound von 8 to the Bar.\nHandgemachte Musik mit Swing und Charme – wenn 8 to the Bar auftreten\, dann immer mit Witz und Spielfreude. Und die Begeisterung der Band auf der Bühne überträgt sich automatisch auf das Publikum\, man kann sich der Wirkung nicht entziehen. \nGünther Brackmann Piano\, Gesang \nArne Wessel Kontrabass\, Gesang \nClaas Vogt Gitarre\, Gesang \n \n 
URL:https://www.fz-schnelsen.de/veranstaltung/8-to-the-bar-traditionell-unser-letztes-konzert-im-jahr-2/
CATEGORIES:Veranstaltungen
ATTACH;FMTTYPE=image/jpeg:https://www.fz-schnelsen.de/wp-content/uploads/2023/06/8TTB_0376-web.jpg
END:VEVENT
BEGIN:VEVENT
DTSTART;TZID=Europe/Berlin:20251213T160000
DTEND;TZID=Europe/Berlin:20251213T190000
DTSTAMP:20260419T220717
CREATED:20250429T072630Z
LAST-MODIFIED:20251124T092837Z
UID:19358-1765641600-1765652400@www.fz-schnelsen.de
SUMMARY:Ausverkauft - Weihnachtsmärchen - Rumpelstilzchen
DESCRIPTION:Die Veranstaltung ist ausverkauft. \noder: alles andere bleibt geheim\nJa\, spinnen die denn? Aus Stroh Gold machen? Das geht doch gar nicht. Aber der Müller und der König sind sich einig\, und so muss die Müllerstochter mit einem Spinnrad in der Strohkammer übernachten. Dass ihr in der Nacht jemand beim Goldspinnen geholfen hat\, bleibt ein Geheimnis – aber es ist nicht das Einzige….. \nDas Tamalan Theater spielt die Geschichte über die unmöglichen Möglichkeiten für Kinder und Familienpublikum mit viel Stroh\, feurigen Tänzen und einem echten Spinnradschlagzeug.
URL:https://www.fz-schnelsen.de/veranstaltung/weihnachtsmaerchen-rumpelstilzchen/
CATEGORIES:Veranstaltungen
ATTACH;FMTTYPE=image/jpeg:https://www.fz-schnelsen.de/wp-content/uploads/2025/04/rump3-web.jpg
END:VEVENT
BEGIN:VEVENT
DTSTART;TZID=Europe/Berlin:20251214T110000
DTEND;TZID=Europe/Berlin:20251214T130000
DTSTAMP:20260419T220717
CREATED:20250626T092757Z
LAST-MODIFIED:20250704T123545Z
UID:20937-1765710000-1765717200@www.fz-schnelsen.de
SUMMARY:Schnelsen StomperS – der 308. Jazzfrühschoppen
DESCRIPTION:Schnelsens unverwüstliche Kultband: ein Phänomen. Und auch nach über 300 Konzerten sind sie immer noch eifrig dabei. In wechselnder Besetzung zwar\, aber sich selbst immer treu geblieben. Und dem Freizeitzentrum. Jazzfrühschoppen mit den Schnelsen StomperS sind legendär. Das muss man erlebt haben\, das gilt für treue Fans ebenso wie für neue!
URL:https://www.fz-schnelsen.de/veranstaltung/schnelsen-stompers-der-308-jazzfruehschoppen/
CATEGORIES:Veranstaltungen
ATTACH;FMTTYPE=image/jpeg:https://www.fz-schnelsen.de/wp-content/uploads/2023/11/StomperS_2016-webneu.jpg
END:VEVENT
END:VCALENDAR